BEGIN:VCALENDAR
VERSION:2.0
PRODID:-//The Dancing Soul - ECPv6.0.2//NONSGML v1.0//EN
CALSCALE:GREGORIAN
METHOD:PUBLISH
X-ORIGINAL-URL:https://thedancingsoul.com
X-WR-CALDESC:Events for The Dancing Soul
REFRESH-INTERVAL;VALUE=DURATION:PT1H
X-Robots-Tag:noindex
X-PUBLISHED-TTL:PT1H
BEGIN:VTIMEZONE
TZID:America/New_York
BEGIN:DAYLIGHT
TZOFFSETFROM:-0500
TZOFFSETTO:-0400
TZNAME:EDT
DTSTART:20240310T070000
END:DAYLIGHT
BEGIN:STANDARD
TZOFFSETFROM:-0400
TZOFFSETTO:-0500
TZNAME:EST
DTSTART:20241103T060000
END:STANDARD
END:VTIMEZONE
BEGIN:VEVENT
DTSTART;TZID=America/New_York:20240120T100000
DTEND;TZID=America/New_York:20240430T180000
DTSTAMP:20260421T074102
CREATED:20221007T213711Z
LAST-MODIFIED:20240119T225459Z
UID:10000022-1705744800-1714500000@thedancingsoul.com
SUMMARY:Curated Private Sound & Somatic Session
DESCRIPTION:Private Sound Healing or Somatic Sessions For Your Needs/Intentions.\n  \n\nAfter purchase\, you’ll receive an email from me to schedule your personal session via Zoom\, or if you’re local\, in person.\n  \n\nTogether we’ll weave a curated session to support your life\, Nervous System\, body\, and heart\n  \n\nYou will receive a recording from your session if we meet via zoom.\n\n\nLearn more and/or purchase session HERE 
URL:https://thedancingsoul.com/event/12197/
CATEGORIES:Intuitive Movement,kundalini energy,MELT and Sound Healing Meditation,MELT Classes,sound healing,witch vibes,Yoga
ATTACH;FMTTYPE=image/jpeg:https://thedancingsoul.com/wp-content/uploads/2017/12/Space.jpg
END:VEVENT
END:VCALENDAR